BEGIN:VCALENDAR
VERSION:2.0
PRODID:-//Effingham - ECPv6.15.16//NONSGML v1.0//EN
CALSCALE:GREGORIAN
METHOD:PUBLISH
X-ORIGINAL-URL:https://www.effinghammanor.com
X-WR-CALDESC:Events for Effingham
REFRESH-INTERVAL;VALUE=DURATION:PT1H
X-Robots-Tag:noindex
X-PUBLISHED-TTL:PT1H
BEGIN:VTIMEZONE
TZID:America/New_York
BEGIN:DAYLIGHT
TZOFFSETFROM:-0500
TZOFFSETTO:-0400
TZNAME:EDT
DTSTART:20250309T070000
END:DAYLIGHT
BEGIN:STANDARD
TZOFFSETFROM:-0400
TZOFFSETTO:-0500
TZNAME:EST
DTSTART:20251102T060000
END:STANDARD
BEGIN:DAYLIGHT
TZOFFSETFROM:-0500
TZOFFSETTO:-0400
TZNAME:EDT
DTSTART:20260308T070000
END:DAYLIGHT
BEGIN:STANDARD
TZOFFSETFROM:-0400
TZOFFSETTO:-0500
TZNAME:EST
DTSTART:20261101T060000
END:STANDARD
BEGIN:DAYLIGHT
TZOFFSETFROM:-0500
TZOFFSETTO:-0400
TZNAME:EDT
DTSTART:20270314T070000
END:DAYLIGHT
BEGIN:STANDARD
TZOFFSETFROM:-0400
TZOFFSETTO:-0500
TZNAME:EST
DTSTART:20271107T060000
END:STANDARD
END:VTIMEZONE
BEGIN:VEVENT
DTSTART;TZID=America/New_York:20260328T120000
DTEND;TZID=America/New_York:20260328T170000
DTSTAMP:20260423T101509
CREATED:20260221T204542Z
LAST-MODIFIED:20260221T204542Z
UID:4013-1774699200-1774717200@www.effinghammanor.com
SUMMARY:Little Lady Grill Food Truck
DESCRIPTION:Little Lady Grill is here with meals for purchase from 12pm – 5pm with meals for purchase. Little Lady Grill serves the most delicious Latin Fusion meals! Sandwiches\, salads\, grilled chicken platters\, and more!
URL:https://www.effinghammanor.com/event/little-lady-grill-food-truck-27
LOCATION:Effingham\, Effingham Manor\, 14325 Trotters Ridge Pl\,\, Nokesville\, 20181\, United States
CATEGORIES:Food Trucks
END:VEVENT
END:VCALENDAR