BEGIN:VCALENDAR
VERSION:2.0
PRODID:-//Effingham - ECPv6.15.16//NONSGML v1.0//EN
CALSCALE:GREGORIAN
METHOD:PUBLISH
X-ORIGINAL-URL:https://www.effinghammanor.com
X-WR-CALDESC:Events for Effingham
REFRESH-INTERVAL;VALUE=DURATION:PT1H
X-Robots-Tag:noindex
X-PUBLISHED-TTL:PT1H
BEGIN:VTIMEZONE
TZID:America/New_York
BEGIN:DAYLIGHT
TZOFFSETFROM:-0500
TZOFFSETTO:-0400
TZNAME:EDT
DTSTART:20250309T070000
END:DAYLIGHT
BEGIN:STANDARD
TZOFFSETFROM:-0400
TZOFFSETTO:-0500
TZNAME:EST
DTSTART:20251102T060000
END:STANDARD
BEGIN:DAYLIGHT
TZOFFSETFROM:-0500
TZOFFSETTO:-0400
TZNAME:EDT
DTSTART:20260308T070000
END:DAYLIGHT
BEGIN:STANDARD
TZOFFSETFROM:-0400
TZOFFSETTO:-0500
TZNAME:EST
DTSTART:20261101T060000
END:STANDARD
BEGIN:DAYLIGHT
TZOFFSETFROM:-0500
TZOFFSETTO:-0400
TZNAME:EDT
DTSTART:20270314T070000
END:DAYLIGHT
BEGIN:STANDARD
TZOFFSETFROM:-0400
TZOFFSETTO:-0500
TZNAME:EST
DTSTART:20271107T060000
END:STANDARD
END:VTIMEZONE
BEGIN:VEVENT
DTSTART;TZID=America/New_York:20260426T120000
DTEND;TZID=America/New_York:20260426T170000
DTSTAMP:20260421T093852
CREATED:20260420T220144Z
LAST-MODIFIED:20260420T220144Z
UID:4119-1777204800-1777222800@www.effinghammanor.com
SUMMARY:Jeremiah's Kansas City Style Bar B Q
DESCRIPTION:Jeremiah’s Kansas City Style Bar B Q  will be back at Effingham from 12PM – 5PM. Jeremiah will have pulled pork\, barbeque chicken\, mac & cheese\, and more! \nMGySgt Jeremiah Burns 3 time National Armed Forces Champion of the Giant National Capitol BBQ Battle\, USO Metro
URL:https://www.effinghammanor.com/event/jeremiahs-kansas-city-style-bar-b-q-57
CATEGORIES:Food Trucks
END:VEVENT
BEGIN:VEVENT
DTSTART;TZID=America/New_York:20260502T120000
DTEND;TZID=America/New_York:20260502T170000
DTSTAMP:20260421T093852
CREATED:20260420T182104Z
LAST-MODIFIED:20260420T182104Z
UID:4101-1777723200-1777741200@www.effinghammanor.com
SUMMARY:Nokesville Meats Food Truck
DESCRIPTION:Nokesville Meats Food Truck will be at Effingham from 12pm – 5pm with food for purchase. They serve a variety of items including hot dogs\, brats\, and burgers. \n \n  \n 
URL:https://www.effinghammanor.com/event/nokesville-meats-food-truck
LOCATION:Effingham\, Effingham Manor\, 14325 Trotters Ridge Pl\,\, Nokesville\, 20181\, United States
CATEGORIES:Food Trucks
END:VEVENT
BEGIN:VEVENT
DTSTART;TZID=America/New_York:20260509T120000
DTEND;TZID=America/New_York:20260509T170000
DTSTAMP:20260421T093852
CREATED:20260410T203213Z
LAST-MODIFIED:20260410T203213Z
UID:4096-1778328000-1778346000@www.effinghammanor.com
SUMMARY:The Kitchen of Don Alfredo Food Truck
DESCRIPTION:The Kitchen of Don Alfredo Food Truck will be at Effingham from 12pm – 5pm with food for purchase. TKODA food truck serves the best Birria\, tacos\, pupusas\, and flan around.
URL:https://www.effinghammanor.com/event/the-kitchen-of-don-alfredo-food-truck-13
LOCATION:Effingham\, Effingham Manor\, 14325 Trotters Ridge Pl\,\, Nokesville\, 20181\, United States
CATEGORIES:Food Trucks
END:VEVENT
BEGIN:VEVENT
DTSTART;TZID=America/New_York:20260510T120000
DTEND;TZID=America/New_York:20260510T170000
DTSTAMP:20260421T093852
CREATED:20260420T182636Z
LAST-MODIFIED:20260420T182636Z
UID:4108-1778414400-1778432400@www.effinghammanor.com
SUMMARY:Talk of the Mountain Seafood
DESCRIPTION:Talk of the Mountain Seafood will be at Effingham from 12pm – 5pm. \nTalk of the Mountain Seafood will be serving their famous crab cakes\, shrimp\, hushpuppies\, and more!
URL:https://www.effinghammanor.com/event/talk-of-the-mountain-seafood-18
LOCATION:Effingham\, Effingham Manor\, 14325 Trotters Ridge Pl\,\, Nokesville\, 20181\, United States
CATEGORIES:Food Trucks
END:VEVENT
END:VCALENDAR